BEGIN:VCALENDAR
VERSION:2.0
PRODID:-//Karnevalsgesellschaft Nyge-Münster - ECPv6.15.20//NONSGML v1.0//EN
CALSCALE:GREGORIAN
METHOD:PUBLISH
X-WR-CALNAME:Karnevalsgesellschaft Nyge-Münster
X-ORIGINAL-URL:https://nygemuenster.de
X-WR-CALDESC:Veranstaltungen für Karnevalsgesellschaft Nyge-Münster
REFRESH-INTERVAL;VALUE=DURATION:PT1H
X-Robots-Tag:noindex
X-PUBLISHED-TTL:PT1H
BEGIN:VTIMEZONE
TZID:Europe/Berlin
BEGIN:DAYLIGHT
TZOFFSETFROM:+0100
TZOFFSETTO:+0200
TZNAME:CEST
DTSTART:20250330T010000
END:DAYLIGHT
BEGIN:STANDARD
TZOFFSETFROM:+0200
TZOFFSETTO:+0100
TZNAME:CET
DTSTART:20251026T010000
END:STANDARD
BEGIN:DAYLIGHT
TZOFFSETFROM:+0100
TZOFFSETTO:+0200
TZNAME:CEST
DTSTART:20260329T010000
END:DAYLIGHT
BEGIN:STANDARD
TZOFFSETFROM:+0200
TZOFFSETTO:+0100
TZNAME:CET
DTSTART:20261025T010000
END:STANDARD
BEGIN:DAYLIGHT
TZOFFSETFROM:+0100
TZOFFSETTO:+0200
TZNAME:CEST
DTSTART:20270328T010000
END:DAYLIGHT
BEGIN:STANDARD
TZOFFSETFROM:+0200
TZOFFSETTO:+0100
TZNAME:CET
DTSTART:20271031T010000
END:STANDARD
END:VTIMEZONE
BEGIN:VEVENT
DTSTART;TZID=Europe/Berlin:20261107T201100
DTEND;TZID=Europe/Berlin:20261107T233000
DTSTAMP:20260420T043212
CREATED:20250326T182558Z
LAST-MODIFIED:20260413T175921Z
UID:38935-1794082260-1794094200@nygemuenster.de
SUMMARY:Proklamation 2026
DESCRIPTION:
URL:https://nygemuenster.de/event/proklamation-2025/
LOCATION:Stadthalle Neumünster\, Kleinflecken 1\, NEUMÜNSTER\, Schleswig-Holstein\, 24537\, Germany
ORGANIZER;CN="Nyge-M%C3%BCnster":MAILTO:webmaster@nygemuenster.de
END:VEVENT
BEGIN:VEVENT
DTSTART;TZID=Europe/Berlin:20261108T141100
DTEND;TZID=Europe/Berlin:20261108T173000
DTSTAMP:20260420T043212
CREATED:20250326T182419Z
LAST-MODIFIED:20260413T180103Z
UID:38939-1794147060-1794159000@nygemuenster.de
SUMMARY:Jugend Proklamation 2026
DESCRIPTION:
URL:https://nygemuenster.de/event/kinderproklamation-2025/
LOCATION:Stadthalle Neumünster\, Kleinflecken 1\, NEUMÜNSTER\, Schleswig-Holstein\, 24537\, Germany
ORGANIZER;CN="Nyge-M%C3%BCnster":MAILTO:webmaster@nygemuenster.de
END:VEVENT
BEGIN:VEVENT
DTSTART;TZID=Europe/Berlin:20261111T090000
DTEND;TZID=Europe/Berlin:20261111T130000
DTSTAMP:20260420T043212
CREATED:20250308T183630Z
LAST-MODIFIED:20260413T180210Z
UID:38944-1794387600-1794402000@nygemuenster.de
SUMMARY:Rathaussturm 2026
DESCRIPTION:
URL:https://nygemuenster.de/event/rathaussturm-2025/
LOCATION:Rathaus\, Großflecken 59\, NEUMÜNSTER\, Schleswig-Holstein\, 24534\, Germany
END:VEVENT
END:VCALENDAR