BEGIN:VCALENDAR
VERSION:2.0
PRODID:-//Karnevalsgesellschaft Nyge-Münster - ECPv6.15.20//NONSGML v1.0//EN
CALSCALE:GREGORIAN
METHOD:PUBLISH
X-WR-CALNAME:Karnevalsgesellschaft Nyge-Münster
X-ORIGINAL-URL:https://nygemuenster.de
X-WR-CALDESC:Veranstaltungen für Karnevalsgesellschaft Nyge-Münster
REFRESH-INTERVAL;VALUE=DURATION:PT1H
X-Robots-Tag:noindex
X-PUBLISHED-TTL:PT1H
BEGIN:VTIMEZONE
TZID:Europe/Berlin
BEGIN:DAYLIGHT
TZOFFSETFROM:+0100
TZOFFSETTO:+0200
TZNAME:CEST
DTSTART:20240331T010000
END:DAYLIGHT
BEGIN:STANDARD
TZOFFSETFROM:+0200
TZOFFSETTO:+0100
TZNAME:CET
DTSTART:20241027T010000
END:STANDARD
BEGIN:DAYLIGHT
TZOFFSETFROM:+0100
TZOFFSETTO:+0200
TZNAME:CEST
DTSTART:20250330T010000
END:DAYLIGHT
BEGIN:STANDARD
TZOFFSETFROM:+0200
TZOFFSETTO:+0100
TZNAME:CET
DTSTART:20251026T010000
END:STANDARD
BEGIN:DAYLIGHT
TZOFFSETFROM:+0100
TZOFFSETTO:+0200
TZNAME:CEST
DTSTART:20260329T010000
END:DAYLIGHT
BEGIN:STANDARD
TZOFFSETFROM:+0200
TZOFFSETTO:+0100
TZNAME:CET
DTSTART:20261025T010000
END:STANDARD
BEGIN:DAYLIGHT
TZOFFSETFROM:+0100
TZOFFSETTO:+0200
TZNAME:CEST
DTSTART:20270328T010000
END:DAYLIGHT
BEGIN:STANDARD
TZOFFSETFROM:+0200
TZOFFSETTO:+0100
TZNAME:CET
DTSTART:20271031T010000
END:STANDARD
END:VTIMEZONE
BEGIN:VTIMEZONE
TZID:Europe/Brussels
BEGIN:DAYLIGHT
TZOFFSETFROM:+0100
TZOFFSETTO:+0200
TZNAME:CEST
DTSTART:20250330T010000
END:DAYLIGHT
BEGIN:STANDARD
TZOFFSETFROM:+0200
TZOFFSETTO:+0100
TZNAME:CET
DTSTART:20251026T010000
END:STANDARD
BEGIN:DAYLIGHT
TZOFFSETFROM:+0100
TZOFFSETTO:+0200
TZNAME:CEST
DTSTART:20260329T010000
END:DAYLIGHT
BEGIN:STANDARD
TZOFFSETFROM:+0200
TZOFFSETTO:+0100
TZNAME:CET
DTSTART:20261025T010000
END:STANDARD
BEGIN:DAYLIGHT
TZOFFSETFROM:+0100
TZOFFSETTO:+0200
TZNAME:CEST
DTSTART:20270328T010000
END:DAYLIGHT
BEGIN:STANDARD
TZOFFSETFROM:+0200
TZOFFSETTO:+0100
TZNAME:CET
DTSTART:20271031T010000
END:STANDARD
END:VTIMEZONE
BEGIN:VEVENT
DTSTART;TZID=Europe/Berlin:20260218T190000
DTEND;TZID=Europe/Berlin:20260218T223000
DTSTAMP:20260425T164955
CREATED:20250326T203109Z
LAST-MODIFIED:20250326T203109Z
UID:38961-1771441200-1771453800@nygemuenster.de
SUMMARY:Fischessen 2026
DESCRIPTION:
URL:https://nygemuenster.de/event/fischessen-2026/
LOCATION:Stadthalle Neumünster\, Kleinflecken 1\, NEUMÜNSTER\, Schleswig-Holstein\, 24537\, Germany
ORGANIZER;CN="Nyge-M%C3%BCnster":MAILTO:webmaster@nygemuenster.de
END:VEVENT
BEGIN:VEVENT
DTSTART;VALUE=DATE:20260216
DTEND;VALUE=DATE:20260217
DTSTAMP:20260425T164955
CREATED:20250326T202719Z
LAST-MODIFIED:20250326T202719Z
UID:38958-1771200000-1771286399@nygemuenster.de
SUMMARY:Karnevals Umzug Marne 2026
DESCRIPTION:
URL:https://nygemuenster.de/event/karnevals-umzug-marne-2026/
LOCATION:Marne\, Marne\, Schleswig-Holstein\, 25709\, Germany
END:VEVENT
BEGIN:VEVENT
DTSTART;TZID=Europe/Berlin:20260215T141100
DTEND;TZID=Europe/Berlin:20260215T170000
DTSTAMP:20260425T164955
CREATED:20250326T201814Z
LAST-MODIFIED:20260116T130909Z
UID:38956-1771164660-1771174800@nygemuenster.de
SUMMARY:Kinder + Jugendball 2026
DESCRIPTION:
URL:https://nygemuenster.de/event/kinderprinzenball-2026/
LOCATION:Stadthalle Neumünster\, Kleinflecken 1\, NEUMÜNSTER\, Schleswig-Holstein\, 24537\, Germany
ORGANIZER;CN="Nyge-M%C3%BCnster":MAILTO:webmaster@nygemuenster.de
END:VEVENT
BEGIN:VEVENT
DTSTART;TZID=Europe/Berlin:20260214T190000
DTEND;TZID=Europe/Berlin:20260214T235900
DTSTAMP:20260425T164955
CREATED:20250326T184250Z
LAST-MODIFIED:20250326T201621Z
UID:38954-1771095600-1771113540@nygemuenster.de
SUMMARY:Prinzenball 2026
DESCRIPTION:
URL:https://nygemuenster.de/event/prinzenball-2026/
LOCATION:Stadthalle Neumünster\, Kleinflecken 1\, NEUMÜNSTER\, Schleswig-Holstein\, 24537\, Germany
END:VEVENT
BEGIN:VEVENT
DTSTART;TZID=Europe/Berlin:20260208T150000
DTEND;TZID=Europe/Berlin:20260208T164500
DTSTAMP:20260425T164955
CREATED:20251201T011720Z
LAST-MODIFIED:20251201T011720Z
UID:42445-1770562800-1770569100@nygemuenster.de
SUMMARY:Haus Schleusberg
DESCRIPTION:
URL:https://nygemuenster.de/event/haus-schleusberg/
LOCATION:Haus Schleusberg\, Schützenstraße 2\, Neumünster\, Schleswig-Holstein\, 24534\, Germany
ORGANIZER;CN="Nyge-M%C3%BCnster":MAILTO:webmaster@nygemuenster.de
END:VEVENT
BEGIN:VEVENT
DTSTART;TZID=Europe/Berlin:20260207T201100
DTEND;TZID=Europe/Berlin:20260207T235900
DTSTAMP:20260425T164955
CREATED:20251201T011443Z
LAST-MODIFIED:20251201T011443Z
UID:42442-1770495060-1770508740@nygemuenster.de
SUMMARY:KG Wittorf 2026
DESCRIPTION:
URL:https://nygemuenster.de/event/kg-wittorf-2026/
LOCATION:Brokstedt\, Dörnbeck 3\, Brokstedt\, 24616\, Germany
END:VEVENT
BEGIN:VEVENT
DTSTART;TZID=Europe/Berlin:20260207T150000
DTEND;TZID=Europe/Berlin:20260207T164500
DTSTAMP:20260425T164955
CREATED:20251201T011109Z
LAST-MODIFIED:20251201T011109Z
UID:42439-1770476400-1770482700@nygemuenster.de
SUMMARY:Haus Am Wasserturm 2026
DESCRIPTION:
URL:https://nygemuenster.de/event/haus-am-wasserturm-2026/
LOCATION:Haus Am Wasserturm\, Schillerstr. 11\, Neumünster\, Schleswig-Holstein\, 24534\, Germany
END:VEVENT
BEGIN:VEVENT
DTSTART;TZID=Europe/Berlin:20260201T150000
DTEND;TZID=Europe/Berlin:20260201T164500
DTSTAMP:20260425T164955
CREATED:20251201T010335Z
LAST-MODIFIED:20251201T010335Z
UID:42436-1769958000-1769964300@nygemuenster.de
SUMMARY:Senioren-Residenz Am Flugsand 2026
DESCRIPTION:
URL:https://nygemuenster.de/event/senioren-residenz-am-flugsand-2026/
LOCATION:Seniorenresidenz Am Flugsand\, Am Flugsand 33\, Boostedt\, 24598\, Germany
ORGANIZER;CN="Nyge-M%C3%BCnster":MAILTO:webmaster@nygemuenster.de
END:VEVENT
BEGIN:VEVENT
DTSTART;TZID=Europe/Berlin:20260131T191100
DTEND;TZID=Europe/Berlin:20260131T233000
DTSTAMP:20260425T164955
CREATED:20260116T130458Z
LAST-MODIFIED:20260116T130458Z
UID:42622-1769886660-1769902200@nygemuenster.de
SUMMARY:5 Jahre TG Kiel
DESCRIPTION:
URL:https://nygemuenster.de/event/5-jahre-tg-kiel/
LOCATION:Sportzentrum Altenholz\, Klausdorfer Str. 78B\, Altenhzolz\, 24161\, Germany
END:VEVENT
BEGIN:VEVENT
DTSTART;TZID=Europe/Berlin:20260131T100000
DTEND;TZID=Europe/Berlin:20260131T130000
DTSTAMP:20260425T164955
CREATED:20251201T005817Z
LAST-MODIFIED:20251201T005817Z
UID:42433-1769853600-1769864400@nygemuenster.de
SUMMARY:Prinzentreffen 2026
DESCRIPTION:
URL:https://nygemuenster.de/event/prinzentreffen-2026/
LOCATION:Rathaus\, Großflecken 59\, NEUMÜNSTER\, Schleswig-Holstein\, 24534\, Germany
END:VEVENT
BEGIN:VEVENT
DTSTART;TZID=Europe/Brussels:20260130T180000
DTEND;TZID=Europe/Brussels:20260130T233000
DTSTAMP:20260425T164955
CREATED:20250326T183848Z
LAST-MODIFIED:20250326T183848Z
UID:38950-1769796000-1769815800@nygemuenster.de
SUMMARY:Damensitzung 2026
DESCRIPTION:
URL:https://nygemuenster.de/event/damensitzung-2026/
LOCATION:Volkshaus Tungendorf\, Hürsland 2\, NEUMÜNSTER\, Schleswig-Holstein\, 24536\, Germany
ORGANIZER;CN="Nyge-M%C3%BCnster":MAILTO:webmaster@nygemuenster.de
END:VEVENT
BEGIN:VEVENT
DTSTART;TZID=Europe/Berlin:20260125T141100
DTEND;TZID=Europe/Berlin:20260125T173000
DTSTAMP:20260425T164955
CREATED:20260116T125904Z
LAST-MODIFIED:20260116T125904Z
UID:42620-1769350260-1769362200@nygemuenster.de
SUMMARY:CC Rendsburg
DESCRIPTION:
URL:https://nygemuenster.de/event/cc-rendsburg-2/
LOCATION:CC Rendsburg\, Arsenalstraße 2\, Rendsburg\, 24768\, Germany
END:VEVENT
BEGIN:VEVENT
DTSTART;TZID=Europe/Berlin:20260124T184500
DTEND;TZID=Europe/Berlin:20260124T233000
DTSTAMP:20260425T164955
CREATED:20260116T125738Z
LAST-MODIFIED:20260116T125738Z
UID:42616-1769280300-1769297400@nygemuenster.de
SUMMARY:CC Rendsburg
DESCRIPTION:
URL:https://nygemuenster.de/event/cc-rendsburg/
LOCATION:CC Rendsburg\, Arsenalstraße 2\, Rendsburg\, 24768\, Germany
END:VEVENT
BEGIN:VEVENT
DTSTART;TZID=Europe/Berlin:20260124T143000
DTEND;TZID=Europe/Berlin:20260124T164500
DTSTAMP:20260425T164955
CREATED:20260116T124857Z
LAST-MODIFIED:20260116T124857Z
UID:42613-1769265000-1769273100@nygemuenster.de
SUMMARY:Seniorenkarneval Haus Weitsicht
DESCRIPTION:
URL:https://nygemuenster.de/event/seniorenkarneval-haus-weitsicht/
LOCATION:Haus Weitsicht\, Bergstraße 1\, Boostedt\, Schleswig-Holstein\, 24598\, Germany
ORGANIZER;CN="Nyge-M%C3%BCnster":MAILTO:webmaster@nygemuenster.de
END:VEVENT
BEGIN:VEVENT
DTSTART;TZID=Europe/Berlin:20260123T190000
DTEND;TZID=Europe/Berlin:20260123T230000
DTSTAMP:20260425T164955
CREATED:20251201T005443Z
LAST-MODIFIED:20251201T005443Z
UID:42431-1769194800-1769209200@nygemuenster.de
SUMMARY:Ritterschlag 2026
DESCRIPTION:
URL:https://nygemuenster.de/event/ritterschlag-2026/
LOCATION:RCC Kiel\, Gemeindehaus Kronshagen\, Kronshagen\, 24119\, Germany
ORGANIZER;CN="Renania":MAILTO:o-leiter@rcckiel.de
END:VEVENT
BEGIN:VEVENT
DTSTART;TZID=Europe/Berlin:20260118T150000
DTEND;TZID=Europe/Berlin:20260118T164500
DTSTAMP:20260425T164955
CREATED:20251201T005047Z
LAST-MODIFIED:20251201T005047Z
UID:42428-1768748400-1768754700@nygemuenster.de
SUMMARY:Senjorenkarneval Probst Riewert Haus
DESCRIPTION:
URL:https://nygemuenster.de/event/senjorenkarneval-probst-riewert-haus/
LOCATION:Probst-Riewerts Haus\, Plöner Straße 12\, Neumünster\, Schleswig-Holstein\, 24534\, Germany
END:VEVENT
BEGIN:VEVENT
DTSTART;TZID=Europe/Berlin:20260116T201100
DTEND;TZID=Europe/Berlin:20260116T235900
DTSTAMP:20260425T164955
CREATED:20251201T004528Z
LAST-MODIFIED:20251201T004528Z
UID:42425-1768594260-1768607940@nygemuenster.de
SUMMARY:Plön 66 Jahre
DESCRIPTION:
URL:https://nygemuenster.de/event/ploen-66-jahre/
LOCATION:Wankendorf\, Dorfstraße 14\, Wankendorf\, 24601\, Germany
END:VEVENT
BEGIN:VEVENT
DTSTART;TZID=Europe/Berlin:20251122T184500
DTEND;TZID=Europe/Berlin:20251122T233000
DTSTAMP:20260425T164955
CREATED:20251005T155544Z
LAST-MODIFIED:20251005T155544Z
UID:42343-1763837100-1763854200@nygemuenster.de
SUMMARY:Rot-Grüne-Nacht Meimersdorf
DESCRIPTION:
URL:https://nygemuenster.de/event/rot-gruene-nacht-meimersdorf/
LOCATION:Sportzentrum Altenholz\, Klausdorfer Str. 78B\, Altenhzolz\, 24161\, Germany
END:VEVENT
BEGIN:VEVENT
DTSTART;TZID=Europe/Berlin:20251101T170000
DTEND;TZID=Europe/Berlin:20251101T220000
DTSTAMP:20260425T164955
CREATED:20250326T182747Z
LAST-MODIFIED:20250806T155659Z
UID:38946-1762016400-1762034400@nygemuenster.de
SUMMARY:Tanzzauber 2025
DESCRIPTION:
URL:https://nygemuenster.de/event/tanzzauber-2025/
LOCATION:Stadthalle Neumünster\, Kleinflecken 1\, NEUMÜNSTER\, Schleswig-Holstein\, 24537\, Germany
ORGANIZER;CN="Nyge-M%C3%BCnster":MAILTO:webmaster@nygemuenster.de
END:VEVENT
BEGIN:VEVENT
DTSTART;VALUE=DATE:20250612
DTEND;VALUE=DATE:20250616
DTSTAMP:20260425T164955
CREATED:20250308T183406Z
LAST-MODIFIED:20250326T183114Z
UID:38941-1749686400-1750031999@nygemuenster.de
SUMMARY:Holstenköste 2025
DESCRIPTION:
URL:https://nygemuenster.de/event/holstenkoeste-2025/
LOCATION:Rathaus\, Großflecken 59\, NEUMÜNSTER\, Schleswig-Holstein\, 24534\, Germany
ORGANIZER;CN="Nyge-M%C3%BCnster":MAILTO:webmaster@nygemuenster.de
END:VEVENT
BEGIN:VEVENT
DTSTART;TZID=Europe/Berlin:20250521T190000
DTEND;TZID=Europe/Berlin:20250521T223000
DTSTAMP:20260425T164955
CREATED:20250326T182937Z
LAST-MODIFIED:20250326T182937Z
UID:38937-1747854000-1747866600@nygemuenster.de
SUMMARY:Jahreshauptversammlung 2025
DESCRIPTION:
URL:https://nygemuenster.de/event/jahreshauptversammlung-2025/
LOCATION:Stadthalle Neumünster\, Kleinflecken 1\, NEUMÜNSTER\, Schleswig-Holstein\, 24537\, Germany
ORGANIZER;CN="Nyge-M%C3%BCnster":MAILTO:webmaster@nygemuenster.de
END:VEVENT
BEGIN:VEVENT
DTSTART;TZID=Europe/Berlin:20250302T141100
DTEND;TZID=Europe/Berlin:20250302T173000
DTSTAMP:20260425T164955
CREATED:20250221T183407Z
LAST-MODIFIED:20250221T183407Z
UID:38912-1740924660-1740936600@nygemuenster.de
SUMMARY:Kinderkarneval 2025
DESCRIPTION:
URL:https://nygemuenster.de/event/kinderkarneval-2025/
LOCATION:Stadthalle Neumünster\, Kleinflecken 1\, NEUMÜNSTER\, Schleswig-Holstein\, 24537\, Germany
ORGANIZER;CN="Nyge-M%C3%BCnster":MAILTO:webmaster@nygemuenster.de
END:VEVENT
BEGIN:VEVENT
DTSTART;TZID=Europe/Berlin:20250301T201100
DTEND;TZID=Europe/Berlin:20250301T235900
DTSTAMP:20260425T164955
CREATED:20250221T182248Z
LAST-MODIFIED:20250221T184558Z
UID:38908-1740859860-1740873540@nygemuenster.de
SUMMARY:Prinzenball 2025
DESCRIPTION:
URL:https://nygemuenster.de/event/prinzenball-2025/
LOCATION:Stadthalle Neumünster\, Kleinflecken 1\, NEUMÜNSTER\, Schleswig-Holstein\, 24537\, Germany
ORGANIZER;CN="Nyge-M%C3%BCnster":MAILTO:webmaster@nygemuenster.de
END:VEVENT
BEGIN:VEVENT
DTSTART;TZID=Europe/Berlin:20250124T191100
DTEND;TZID=Europe/Berlin:20250124T233000
DTSTAMP:20260425T164955
CREATED:20250124T151132Z
LAST-MODIFIED:20250124T154535Z
UID:38795-1737745860-1737761400@nygemuenster.de
SUMMARY:Ritterschlag 25
DESCRIPTION:
URL:https://nygemuenster.de/event/ritterschlag-25/
LOCATION:RCC Kiel\, Gemeindehaus Kronshagen\, Kronshagen\, 24119\, Germany
ORGANIZER;CN="Nyge-M%C3%BCnster":MAILTO:webmaster@nygemuenster.de
END:VEVENT
END:VCALENDAR